BEGIN:VCALENDAR
VERSION:2.0
PRODID:-//Eastcote Residents&#039; Association - ECPv5.16.4//NONSGML v1.0//EN
CALSCALE:GREGORIAN
METHOD:PUBLISH
X-WR-CALNAME:Eastcote Residents&#039; Association
X-ORIGINAL-URL:https://www.eastcoteresidents.org.uk
X-WR-CALDESC:Events for Eastcote Residents&#039; Association
BEGIN:VTIMEZONE
TZID:Europe/London
BEGIN:DAYLIGHT
TZOFFSETFROM:+0000
TZOFFSETTO:+0100
TZNAME:BST
DTSTART:20220327T010000
END:DAYLIGHT
BEGIN:STANDARD
TZOFFSETFROM:+0100
TZOFFSETTO:+0000
TZNAME:GMT
DTSTART:20221030T010000
END:STANDARD
END:VTIMEZONE
BEGIN:VEVENT
DTSTART;TZID=Europe/London:20221026T193000
DTEND;TZID=Europe/London:20221026T210000
DTSTAMP:20260424T043310
CREATED:20220805T134940Z
LAST-MODIFIED:20221019T050423Z
UID:5259-1666812600-1666818000@www.eastcoteresidents.org.uk
SUMMARY:ERA Open forum
DESCRIPTION:Unfortunately\, we are not able to hold our Open Forum event in its usual format. \nHowever\, you can still put forward any questions or issues that you would like to raise with our Eastcote Councillors. \nWe will have our usual monthly meeting on Wednesday\, 26th at 7.30 in the church hall\, when one of our three Eastcote Councillors will be present. \nIf possible\, do let us have any questions in advance – email planning@eastcotera.co.uk and we will pass them to our Councillors before the meeting. \nYou are welcome to attend the meeting to hear the Council responses to advance questions or to ask a new question of the Councillor present.  Let us know if are going to come along. \nWe will be able to offer Zoom for those who would like to join us in this way. If this is of interest to you\, please let us have your contact details to planning@eastcotera.co.uk  and we will let you have the login details
URL:https://www.eastcoteresidents.org.uk/event/era-open-forum-3/
LOCATION:St Thomas More Church\, 32 Field End Road\, Pinner\, HA5 2QT\, United Kingdom
CATEGORIES:Committee Meetings
END:VEVENT
END:VCALENDAR