BEGIN:VCALENDAR
VERSION:2.0
PRODID:-//Eastcote Residents&#039; Association - ECPv5.16.4//NONSGML v1.0//EN
CALSCALE:GREGORIAN
METHOD:PUBLISH
X-WR-CALNAME:Eastcote Residents&#039; Association
X-ORIGINAL-URL:https://www.eastcoteresidents.org.uk
X-WR-CALDESC:Events for Eastcote Residents&#039; Association
BEGIN:VTIMEZONE
TZID:Europe/London
BEGIN:DAYLIGHT
TZOFFSETFROM:+0000
TZOFFSETTO:+0100
TZNAME:BST
DTSTART:20240331T010000
END:DAYLIGHT
BEGIN:STANDARD
TZOFFSETFROM:+0100
TZOFFSETTO:+0000
TZNAME:GMT
DTSTART:20241027T010000
END:STANDARD
END:VTIMEZONE
BEGIN:VEVENT
DTSTART;TZID=Europe/London:20240713T193000
DTEND;TZID=Europe/London:20240713T213000
DTSTAMP:20260422T224417
CREATED:20240627T081039Z
LAST-MODIFIED:20240627T081039Z
UID:6673-1720899000-1720906200@www.eastcoteresidents.org.uk
SUMMARY:Harrow Harmony Choir Summer Concert
DESCRIPTION:The repertoire will include music from West Side Story \, the Beatles \, Lou Reed\, Karl Jenkins \, Bizet \, Mozart\, and the Gratest Snowman and more. This will be the first concert at the Pinner venue for our new musical director Ira Kalechman . Anna Lightbrown will accompany us on piano and our guest solo artist is Mayumi Iida Stone . Please join us \, we can guarantee you will have an entertaining evening !\nTickets £12 (under 18s £6 ) available on the door \, buy in advance by email\nboxoffice@harrowharmony.org.uk or call 020 8861 4017
URL:https://www.eastcoteresidents.org.uk/event/harrow-harmony-choir-summer-concert/
LOCATION:pinner methodist church\, love lane\, ha5 3ee
CATEGORIES:Arts
END:VEVENT
END:VCALENDAR