BEGIN:VCALENDAR
VERSION:2.0
PRODID:-//Eastcote Residents&#039; Association - ECPv5.16.4//NONSGML v1.0//EN
CALSCALE:GREGORIAN
METHOD:PUBLISH
X-WR-CALNAME:Eastcote Residents&#039; Association
X-ORIGINAL-URL:https://www.eastcoteresidents.org.uk
X-WR-CALDESC:Events for Eastcote Residents&#039; Association
BEGIN:VTIMEZONE
TZID:Europe/London
BEGIN:DAYLIGHT
TZOFFSETFROM:+0000
TZOFFSETTO:+0100
TZNAME:BST
DTSTART:20240331T010000
END:DAYLIGHT
BEGIN:STANDARD
TZOFFSETFROM:+0100
TZOFFSETTO:+0000
TZNAME:GMT
DTSTART:20241027T010000
END:STANDARD
END:VTIMEZONE
BEGIN:VEVENT
DTSTART;TZID=Europe/London:20240406T190000
DTEND;TZID=Europe/London:20240406T213000
DTSTAMP:20260423T035107
CREATED:20240221T151355Z
LAST-MODIFIED:20240327T115240Z
UID:6449-1712430000-1712439000@www.eastcoteresidents.org.uk
SUMMARY:Harrow Harmony Spring Concert 6th April 2024
DESCRIPTION:Harrow Harmony’s Spring Concert takes place at St Cuthbert’s Church\, Carlton Avenue West\, North Wembley HA0 3QY. The guest artist is Greg Mitchell and further details are in the attached flyer. We hope to see you there.
URL:https://www.eastcoteresidents.org.uk/event/harrow-harmony-spring-concert-6th-april-2024/
CATEGORIES:Arts
END:VEVENT
END:VCALENDAR