BEGIN:VCALENDAR
VERSION:2.0
PRODID:-//Eastcote Residents&#039; Association - ECPv5.16.4//NONSGML v1.0//EN
CALSCALE:GREGORIAN
METHOD:PUBLISH
X-WR-CALNAME:Eastcote Residents&#039; Association
X-ORIGINAL-URL:https://www.eastcoteresidents.org.uk
X-WR-CALDESC:Events for Eastcote Residents&#039; Association
BEGIN:VTIMEZONE
TZID:Europe/London
BEGIN:DAYLIGHT
TZOFFSETFROM:+0000
TZOFFSETTO:+0100
TZNAME:BST
DTSTART:20230326T010000
END:DAYLIGHT
BEGIN:STANDARD
TZOFFSETFROM:+0100
TZOFFSETTO:+0000
TZNAME:GMT
DTSTART:20231029T010000
END:STANDARD
END:VTIMEZONE
BEGIN:VEVENT
DTSTART;TZID=Europe/London:20230418T200000
DTEND;TZID=Europe/London:20230418T213000
DTSTAMP:20260421T101111
CREATED:20230321T115331Z
LAST-MODIFIED:20230321T115331Z
UID:5755-1681848000-1681853400@www.eastcoteresidents.org.uk
SUMMARY:Ruislip\, Northwood and Eastcote Local History Society
DESCRIPTION:Our final meeting for this season:  Colin Richards will be telling the story of Northolt Park Racecourse. Visitors are welcome (£2 admission). Any changes to these arrangements will be posted on the RNELHS website. For further information please contact the Membership Secretary at membership@rnelhs.uk
URL:https://www.eastcoteresidents.org.uk/event/ruislip-northwood-and-eastcote-local-history-society-24/
LOCATION:St Martin’s Church Hall\, Eastcote Road\, Ruislip\, HA4 8DG\, United Kingdom
CATEGORIES:Arts
ATTACH;FMTTYPE=image/png:https://www.eastcoteresidents.org.uk/wp-content/uploads/2023/03/logo300trans.png
END:VEVENT
END:VCALENDAR