BEGIN:VCALENDAR
VERSION:2.0
PRODID:-//Eastcote Residents&#039; Association - ECPv5.16.4//NONSGML v1.0//EN
CALSCALE:GREGORIAN
METHOD:PUBLISH
X-WR-CALNAME:Eastcote Residents&#039; Association
X-ORIGINAL-URL:https://www.eastcoteresidents.org.uk
X-WR-CALDESC:Events for Eastcote Residents&#039; Association
BEGIN:VTIMEZONE
TZID:Europe/London
BEGIN:DAYLIGHT
TZOFFSETFROM:+0000
TZOFFSETTO:+0100
TZNAME:BST
DTSTART:20230326T010000
END:DAYLIGHT
BEGIN:STANDARD
TZOFFSETFROM:+0100
TZOFFSETTO:+0000
TZNAME:GMT
DTSTART:20231029T010000
END:STANDARD
END:VTIMEZONE
BEGIN:VEVENT
DTSTART;TZID=Europe/London:20230312T174500
DTEND;TZID=Europe/London:20230312T210000
DTSTAMP:20260421T115129
CREATED:20230303T104715Z
LAST-MODIFIED:20230303T104758Z
UID:5731-1678643100-1678654800@www.eastcoteresidents.org.uk
SUMMARY:Stardust Big Band Charity Concert
DESCRIPTION:Ruislip Manor Methodist Church present\nStardust Big Band \nCharity concert in aid of Kidney Research UK \nticket prices: £8 in advance\, (£10 on the door)\, £5 children \nto book email valgraham@btinternet.com or phone 07816 237 211
URL:https://www.eastcoteresidents.org.uk/event/stardust-big-band-charity-concert/
LOCATION:Ruislip Methodist Church\, Ickenham Road\, Ruislip\, HA4 7BZ\, United Kingdom
CATEGORIES:Social
END:VEVENT
END:VCALENDAR