BEGIN:VCALENDAR
VERSION:2.0
PRODID:-//Eastcote Residents&#039; Association - ECPv5.16.4//NONSGML v1.0//EN
CALSCALE:GREGORIAN
METHOD:PUBLISH
X-WR-CALNAME:Eastcote Residents&#039; Association
X-ORIGINAL-URL:https://www.eastcoteresidents.org.uk
X-WR-CALDESC:Events for Eastcote Residents&#039; Association
BEGIN:VTIMEZONE
TZID:Europe/London
BEGIN:DAYLIGHT
TZOFFSETFROM:+0000
TZOFFSETTO:+0100
TZNAME:BST
DTSTART:20230326T010000
END:DAYLIGHT
BEGIN:STANDARD
TZOFFSETFROM:+0100
TZOFFSETTO:+0000
TZNAME:GMT
DTSTART:20231029T010000
END:STANDARD
END:VTIMEZONE
BEGIN:VEVENT
DTSTART;TZID=Europe/London:20230219T100000
DTEND;TZID=Europe/London:20230219T140000
DTSTAMP:20260421T132229
CREATED:20230204T111916Z
LAST-MODIFIED:20230204T112105Z
UID:5643-1676800800-1676815200@www.eastcoteresidents.org.uk
SUMMARY:Hillingdon Sports and Leisure Centre to Ruislip Lido - medium guided cycle ride
DESCRIPTION:Sunday 19 February 10.00am – 2.00pm\nWhere: Hillingdon Sports and Leisure Centre to Ruislip Lido (medium ride)\nbookable up to a week beforehand. To ensure your place\, please email sportandphysicalactivity@hillingdon.gov.uk\nMore details https://www.hillingdon.gov.uk/guided-cycle-rides
URL:https://www.eastcoteresidents.org.uk/event/hillingdon-sports-and-leisure-centre-to-ruislip-lido-medium-guided-cycle-ride/
CATEGORIES:Social
END:VEVENT
END:VCALENDAR