BEGIN:VCALENDAR
VERSION:2.0
PRODID:-//Eastcote Residents&#039; Association - ECPv5.16.4//NONSGML v1.0//EN
CALSCALE:GREGORIAN
METHOD:PUBLISH
X-WR-CALNAME:Eastcote Residents&#039; Association
X-ORIGINAL-URL:https://www.eastcoteresidents.org.uk
X-WR-CALDESC:Events for Eastcote Residents&#039; Association
BEGIN:VTIMEZONE
TZID:Europe/London
BEGIN:DAYLIGHT
TZOFFSETFROM:+0000
TZOFFSETTO:+0100
TZNAME:BST
DTSTART:20230326T010000
END:DAYLIGHT
BEGIN:STANDARD
TZOFFSETFROM:+0100
TZOFFSETTO:+0000
TZNAME:GMT
DTSTART:20231029T010000
END:STANDARD
END:VTIMEZONE
BEGIN:VEVENT
DTSTART;TZID=Europe/London:20230217T100000
DTEND;TZID=Europe/London:20230217T140000
DTSTAMP:20260421T132024
CREATED:20230204T112008Z
LAST-MODIFIED:20230204T112008Z
UID:5641-1676628000-1676642400@www.eastcoteresidents.org.uk
SUMMARY:Manor Farm Library to Battle of Britain Bunker - Guided Family Cycle Ride
DESCRIPTION:Friday 17th February 2023 10.00am – 2.00pm\nGuided Family Cycle Ride (Medium)\nManor Farm Library to Battle of Britain Bunker\nPlease book your place by emailing sportandphysicalactivity@hillingdon.gov.uk\n(book before 10th Feb to guarantee a place)\nhttps://www.hillingdon.gov.uk/guided-cycle-rides
URL:https://www.eastcoteresidents.org.uk/event/manor-farm-library-to-battle-of-britain-bunker-guided-family-cycle-ride/
CATEGORIES:Social
ATTACH;FMTTYPE=image/jpeg:https://www.eastcoteresidents.org.uk/wp-content/uploads/2023/02/IMG_5533-smaller-scaled.jpg
END:VEVENT
END:VCALENDAR