BEGIN:VCALENDAR
VERSION:2.0
PRODID:-//Eastcote Residents&#039; Association - ECPv5.16.4//NONSGML v1.0//EN
CALSCALE:GREGORIAN
METHOD:PUBLISH
X-WR-CALNAME:Eastcote Residents&#039; Association
X-ORIGINAL-URL:https://www.eastcoteresidents.org.uk
X-WR-CALDESC:Events for Eastcote Residents&#039; Association
BEGIN:VTIMEZONE
TZID:Europe/London
BEGIN:DAYLIGHT
TZOFFSETFROM:+0000
TZOFFSETTO:+0100
TZNAME:BST
DTSTART:20230326T010000
END:DAYLIGHT
BEGIN:STANDARD
TZOFFSETFROM:+0100
TZOFFSETTO:+0000
TZNAME:GMT
DTSTART:20231029T010000
END:STANDARD
END:VTIMEZONE
BEGIN:VEVENT
DTSTART;TZID=Europe/London:20230204T100000
DTEND;TZID=Europe/London:20230204T130000
DTSTAMP:20260421T132052
CREATED:20230121T111128Z
LAST-MODIFIED:20230121T111128Z
UID:5602-1675504800-1675515600@www.eastcoteresidents.org.uk
SUMMARY:Discovering Eastcote House Gardens
DESCRIPTION:Join archivist Paul Davidson to learn about the history of Eastcote House and its residents\, and create your own impression of times past with artist\, Eliza Wheeler. \nEmail archives@hillingdon.gov.uk to book a place.
URL:https://www.eastcoteresidents.org.uk/event/discovering-eastcote-house-gardens/
LOCATION:Eastcote House Gardens\, High Road\, Eastcote Village\, HA5 2QS\, United Kingdom
CATEGORIES:Green Spaces
END:VEVENT
END:VCALENDAR