BEGIN:VCALENDAR
VERSION:2.0
PRODID:-//Eastcote Residents&#039; Association - ECPv5.16.4//NONSGML v1.0//EN
CALSCALE:GREGORIAN
METHOD:PUBLISH
X-WR-CALNAME:Eastcote Residents&#039; Association
X-ORIGINAL-URL:https://www.eastcoteresidents.org.uk
X-WR-CALDESC:Events for Eastcote Residents&#039; Association
BEGIN:VTIMEZONE
TZID:Europe/London
BEGIN:DAYLIGHT
TZOFFSETFROM:+0000
TZOFFSETTO:+0100
TZNAME:BST
DTSTART:20220327T010000
END:DAYLIGHT
BEGIN:STANDARD
TZOFFSETFROM:+0100
TZOFFSETTO:+0000
TZNAME:GMT
DTSTART:20221030T010000
END:STANDARD
END:VTIMEZONE
BEGIN:VEVENT
DTSTART;TZID=Europe/London:20221022T073000
DTEND;TZID=Europe/London:20221022T073000
DTSTAMP:20260421T203929
CREATED:20220909T144936Z
LAST-MODIFIED:20220909T144936Z
UID:5314-1666423800-1666423800@www.eastcoteresidents.org.uk
SUMMARY:Harrow Choral Society's Autumn Concert 'Songs of the Spirit'
DESCRIPTION:Harrow Choral Society’s Autumn Concert ‘Songs of the Spirit’ \nA varied collection of traditional choral music under the baton of our new Music Director\, Sam Evans. The concert include pieces by Elgar\, Brahms\, Wesley\, Parry and Finzi to reflect an autumnal mood. \nParish Church of St Alban\, The Ridgeway\, North Harrow HA2 7PF\nSaturday 22nd October 5:30 – 6.30 pm \nTickets: £10\, free to under 18s\nwww.harrowchoral.org.uk\nboxoffice@harrowchoral.org.uk\n07794 253463 \nNext Concert: Saturday 17th December\, Harrow School Speech Room HA1 3HP\nWe are delighted to announce that our guest speaker will be Jane Asher!\nAll details on their website in due course.
URL:https://www.eastcoteresidents.org.uk/event/harrow-choral-societys-autumn-concert-songs-of-the-spirit/
CATEGORIES:Arts
ATTACH;FMTTYPE=image/jpeg:https://www.eastcoteresidents.org.uk/wp-content/uploads/2022/09/HCS22Publ_056t.jpg
END:VEVENT
END:VCALENDAR