BEGIN:VCALENDAR
VERSION:2.0
PRODID:-//Eastcote Residents&#039; Association - ECPv5.16.4//NONSGML v1.0//EN
CALSCALE:GREGORIAN
METHOD:PUBLISH
X-WR-CALNAME:Eastcote Residents&#039; Association
X-ORIGINAL-URL:https://www.eastcoteresidents.org.uk
X-WR-CALDESC:Events for Eastcote Residents&#039; Association
BEGIN:VTIMEZONE
TZID:Europe/London
BEGIN:DAYLIGHT
TZOFFSETFROM:+0000
TZOFFSETTO:+0100
TZNAME:BST
DTSTART:20220327T010000
END:DAYLIGHT
BEGIN:STANDARD
TZOFFSETFROM:+0100
TZOFFSETTO:+0000
TZNAME:GMT
DTSTART:20221030T010000
END:STANDARD
END:VTIMEZONE
BEGIN:VEVENT
DTSTART;TZID=Europe/London:20220913T200000
DTEND;TZID=Europe/London:20220913T213000
DTSTAMP:20260421T221141
CREATED:20220915T104922Z
LAST-MODIFIED:20220915T104922Z
UID:5326-1663099200-1663104600@www.eastcoteresidents.org.uk
SUMMARY:Rehearsals restarting
DESCRIPTION:EASTCOTE AND RUISLIP CHORAL SOCIETY restarts rehearsals on Tuesday 13th September at 8.00.\nWe meet at 8.00 at Ruislip Methodist Church Hall\, Ickenham Road\, Ruislip\, HA4 7BZ.\nIf you enjoy singing\, come along and see how you get on. Our next concert is on Saturday 10th December\nat 3.30pm at St Edmunds Church\, Northwood Hills\, HA6 1Q\, and we will be singing\nHandel’s Coronation Anthems. The Bourne School choir are also performing and there will be carols for choir and audience. Tickets are £15 on the door\, or from a choir member Under 12s free. Both these venues are wheelchair accessible. \nMore details are on our website: www\,eastcote-ruislip-choral.org
URL:https://www.eastcoteresidents.org.uk/event/rehearsals-restarting/
CATEGORIES:Arts
END:VEVENT
END:VCALENDAR