BEGIN:VCALENDAR
VERSION:2.0
PRODID:-//Eastcote Residents&#039; Association - ECPv5.16.4//NONSGML v1.0//EN
CALSCALE:GREGORIAN
METHOD:PUBLISH
X-WR-CALNAME:Eastcote Residents&#039; Association
X-ORIGINAL-URL:https://www.eastcoteresidents.org.uk
X-WR-CALDESC:Events for Eastcote Residents&#039; Association
BEGIN:VTIMEZONE
TZID:Europe/London
BEGIN:DAYLIGHT
TZOFFSETFROM:+0000
TZOFFSETTO:+0100
TZNAME:BST
DTSTART:20220327T010000
END:DAYLIGHT
BEGIN:STANDARD
TZOFFSETFROM:+0100
TZOFFSETTO:+0000
TZNAME:GMT
DTSTART:20221030T010000
END:STANDARD
END:VTIMEZONE
BEGIN:VEVENT
DTSTART;TZID=Europe/London:20220903T100000
DTEND;TZID=Europe/London:20220903T150000
DTSTAMP:20260421T221126
CREATED:20220804T220800Z
LAST-MODIFIED:20220804T220843Z
UID:5214-1662199200-1662217200@www.eastcoteresidents.org.uk
SUMMARY:Sing with Us
DESCRIPTION:There’s change in the air at Harrow Choral Society this Autumn as the 80-strong choir says farewell to Simon Williams\, its Music Director of 30 years. Such long and distinguished service will be a hard act to follow but the choir looks forward to a new era as it announces the appointment of Sam Evans as its new MD. To launch the new season and introduce Sam to the wider community\, HCS is holding an open choral workshop\, ‘Sing With Us!’ on 3rd September when both members and new singers will have a chance to meet him. \nSam Evans was a choral scholar of King’s College\, Cambridge and then studied singing at the Royal Academy of Music and Royal College of Music. Sam arrives in Harrow with a wealth of experience as performer\, conductor and singing teacher. He is Music Director of Battersea Choral Society\, and founder Music Director of Battersea Power Station Community Choir. He has been guest chorus master for several leading choirs\, including the Swedish Radio Choir\, the BBC Singers\, and the Vienna Singakademie. In addition to his wealth of conducting experience\, Sam has enjoyed a 20-year career as a professional choral singer\, most notably as a regular member of the bass section of Sir John Eliot Gardiner’s renewed Monteverdi Choir. \n‘Sing With Us’ will focus on music by Elgar\, Finzi\, Brahms\, Haydn and Charles Wood and new singers can be sure of a warm welcome. Tickets may be obtained by visiting the choir’s website at www.harrowchoral.org.ukwww.harrowchoral.org.uk which has more information about the choir\, forthcoming concerts and other events.
URL:https://www.eastcoteresidents.org.uk/event/sing-with-us/
LOCATION:st albans church\, north harrow\, ha2 7pf\, United Kingdom
CATEGORIES:Arts
ATTACH;FMTTYPE=image/jpeg:https://www.eastcoteresidents.org.uk/wp-content/uploads/2022/07/Workshop-poster.jpg
END:VEVENT
END:VCALENDAR