BEGIN:VCALENDAR
VERSION:2.0
PRODID:-//Eastcote Residents&#039; Association - ECPv5.16.4//NONSGML v1.0//EN
CALSCALE:GREGORIAN
METHOD:PUBLISH
X-WR-CALNAME:Eastcote Residents&#039; Association
X-ORIGINAL-URL:https://www.eastcoteresidents.org.uk
X-WR-CALDESC:Events for Eastcote Residents&#039; Association
BEGIN:VTIMEZONE
TZID:Europe/London
BEGIN:DAYLIGHT
TZOFFSETFROM:+0000
TZOFFSETTO:+0100
TZNAME:BST
DTSTART:20210328T010000
END:DAYLIGHT
BEGIN:STANDARD
TZOFFSETFROM:+0100
TZOFFSETTO:+0000
TZNAME:GMT
DTSTART:20211031T010000
END:STANDARD
END:VTIMEZONE
BEGIN:VEVENT
DTSTART;TZID=Europe/London:20211129T194500
DTEND;TZID=Europe/London:20211129T194500
DTSTAMP:20260422T143028
CREATED:20211110T144933Z
LAST-MODIFIED:20211110T145001Z
UID:4744-1638215100-1638215100@www.eastcoteresidents.org.uk
SUMMARY:Eastcote Art Society: Demonstration by Judit Matthews
DESCRIPTION:Eastcote Art Society present a demonstration of ‘Line and Wash’ by visiting guest artist Judit Matthews. \nVisitors welcome.
URL:https://www.eastcoteresidents.org.uk/event/eastcote-art-society-demonstration-by-judit-matthews/
LOCATION:Eastcote Community Centre\, Southbourne Gardens\, Eastcote\, HA4 9SQ\, United Kingdom
CATEGORIES:Arts
END:VEVENT
END:VCALENDAR