BEGIN:VCALENDAR
VERSION:2.0
PRODID:-//Eastcote Residents&#039; Association - ECPv5.16.4//NONSGML v1.0//EN
CALSCALE:GREGORIAN
METHOD:PUBLISH
X-WR-CALNAME:Eastcote Residents&#039; Association
X-ORIGINAL-URL:https://www.eastcoteresidents.org.uk
X-WR-CALDESC:Events for Eastcote Residents&#039; Association
BEGIN:VTIMEZONE
TZID:Europe/London
BEGIN:DAYLIGHT
TZOFFSETFROM:+0000
TZOFFSETTO:+0100
TZNAME:BST
DTSTART:20200329T010000
END:DAYLIGHT
BEGIN:STANDARD
TZOFFSETFROM:+0100
TZOFFSETTO:+0000
TZNAME:GMT
DTSTART:20201025T010000
END:STANDARD
END:VTIMEZONE
BEGIN:VEVENT
DTSTART;TZID=Europe/London:20200327T080000
DTEND;TZID=Europe/London:20200327T170000
DTSTAMP:20260424T033228
CREATED:20200327T155551Z
LAST-MODIFIED:20200327T155626Z
UID:2520-1585296000-1585328400@www.eastcoteresidents.org.uk
SUMMARY:Virtual Events for Eastcote residents
DESCRIPTION:Please let us know if you are aware of “virtual” online events in our area or that local residents might want to join: \ntell us about local events
URL:https://www.eastcoteresidents.org.uk/event/virtual-events-for-eastcote-residents/
CATEGORIES:Community
END:VEVENT
END:VCALENDAR