BEGIN:VCALENDAR
VERSION:2.0
PRODID:-//Eastcote Residents&#039; Association - ECPv5.16.4//NONSGML v1.0//EN
CALSCALE:GREGORIAN
METHOD:PUBLISH
X-WR-CALNAME:Eastcote Residents&#039; Association
X-ORIGINAL-URL:https://www.eastcoteresidents.org.uk
X-WR-CALDESC:Events for Eastcote Residents&#039; Association
BEGIN:VTIMEZONE
TZID:Europe/London
BEGIN:DAYLIGHT
TZOFFSETFROM:+0000
TZOFFSETTO:+0100
TZNAME:BST
DTSTART:20200329T010000
END:DAYLIGHT
BEGIN:STANDARD
TZOFFSETFROM:+0100
TZOFFSETTO:+0000
TZNAME:GMT
DTSTART:20201025T010000
END:STANDARD
END:VTIMEZONE
BEGIN:VEVENT
DTSTART;TZID=Europe/London:20200318T140000
DTEND;TZID=Europe/London:20200318T160000
DTSTAMP:20260424T033229
CREATED:20200129T150653Z
LAST-MODIFIED:20200318T124059Z
UID:2263-1584540000-1584547200@www.eastcoteresidents.org.uk
SUMMARY:CANCELLED Bridge Taster Class - Free
DESCRIPTION:CANCELLED due to Covid19 \nFree Taster Lesson. An introduction to Bridge via minibridge. \nThe next Beginners class starts on 18 March 2020\nWednesday 2:00-4:00pm Pinner Bridge Club\, 103 Marsh Road\, Pinner HA5 5PA \nWednesday 7:30-9:30pm St John’s Church\, Hallowell Road\, Northwood HA6 1DN (Near Green Lane) \nThe complete way for beginners to learn bridge using the Bridge For All scheme from the English Bridge Union. No experience needed. \nNot sure if bridge is for you? Sign up for a FREE Taster Session Wednesday March 18th at the above locations. https://www.bridgewebs.com/cgi-bin/bwon/bw.cgi?club=pinner&pid=display_page2
URL:https://www.eastcoteresidents.org.uk/event/bridge-taster-class-free/
CATEGORIES:Social
END:VEVENT
END:VCALENDAR