BEGIN:VCALENDAR
VERSION:2.0
PRODID:-//Eastcote Residents&#039; Association - ECPv5.16.4//NONSGML v1.0//EN
CALSCALE:GREGORIAN
METHOD:PUBLISH
X-WR-CALNAME:Eastcote Residents&#039; Association
X-ORIGINAL-URL:https://www.eastcoteresidents.org.uk
X-WR-CALDESC:Events for Eastcote Residents&#039; Association
BEGIN:VTIMEZONE
TZID:Europe/London
BEGIN:DAYLIGHT
TZOFFSETFROM:+0000
TZOFFSETTO:+0100
TZNAME:BST
DTSTART:20200329T010000
END:DAYLIGHT
BEGIN:STANDARD
TZOFFSETFROM:+0100
TZOFFSETTO:+0000
TZNAME:GMT
DTSTART:20201025T010000
END:STANDARD
END:VTIMEZONE
BEGIN:VEVENT
DTSTART;TZID=Europe/London:20200307T100000
DTEND;TZID=Europe/London:20200307T100000
DTSTAMP:20260424T033204
CREATED:20200213T084911Z
LAST-MODIFIED:20200213T084923Z
UID:2303-1583575200-1583575200@www.eastcoteresidents.org.uk
SUMMARY:Free and Easy Sat morning walk with Hillingdon Ramblers.
DESCRIPTION:Join the Hillingdon Ramblers for an easy-paced 3-4 mile walk with no stiles starting from Harrow-on-the-Hill station\, south side\, Lowlands Road. For more details\, contact the leader Jon Kellett on 07713 804256.\nFor details of longer walks\, see the Hillingdon Ramblers website www.ramblers.org.uk/hillingdon
URL:https://www.eastcoteresidents.org.uk/event/free-and-easy-sat-morning-walk-with-hillingdon-ramblers-16/
CATEGORIES:Green Spaces
END:VEVENT
END:VCALENDAR