BEGIN:VCALENDAR
VERSION:2.0
PRODID:-//Eastcote Residents&#039; Association - ECPv5.16.4//NONSGML v1.0//EN
CALSCALE:GREGORIAN
METHOD:PUBLISH
X-WR-CALNAME:Eastcote Residents&#039; Association
X-ORIGINAL-URL:https://www.eastcoteresidents.org.uk
X-WR-CALDESC:Events for Eastcote Residents&#039; Association
BEGIN:VTIMEZONE
TZID:Europe/London
BEGIN:DAYLIGHT
TZOFFSETFROM:+0000
TZOFFSETTO:+0100
TZNAME:BST
DTSTART:20200329T010000
END:DAYLIGHT
BEGIN:STANDARD
TZOFFSETFROM:+0100
TZOFFSETTO:+0000
TZNAME:GMT
DTSTART:20201025T010000
END:STANDARD
END:VTIMEZONE
BEGIN:VEVENT
DTSTART;TZID=Europe/London:20200215T100000
DTEND;TZID=Europe/London:20200215T113000
DTSTAMP:20260424T051845
CREATED:20200129T150146Z
LAST-MODIFIED:20200129T150201Z
UID:2283-1581760800-1581766200@www.eastcoteresidents.org.uk
SUMMARY:Free and Easy Sat morning walk with Hillingdon Ramblers.
DESCRIPTION:Join the Hillingdon Ramblers for an easy-paced 3-4 mile walk with no stiles starting from the Aquadrome car park in Rickmansworth. \nFor more details\, contact the leader Cecily on 01923822885. For longer walks\, see the Hillingdon Ramblers web site www.ramblers.org.uk/hillingdon.
URL:https://www.eastcoteresidents.org.uk/event/free-and-easy-sat-morning-walk-with-hillingdon-ramblers-15/
CATEGORIES:Green Spaces
END:VEVENT
END:VCALENDAR