BEGIN:VCALENDAR
VERSION:2.0
PRODID:-//Eastcote Residents&#039; Association - ECPv5.16.4//NONSGML v1.0//EN
CALSCALE:GREGORIAN
METHOD:PUBLISH
X-WR-CALNAME:Eastcote Residents&#039; Association
X-ORIGINAL-URL:https://www.eastcoteresidents.org.uk
X-WR-CALDESC:Events for Eastcote Residents&#039; Association
BEGIN:VTIMEZONE
TZID:Europe/London
BEGIN:DAYLIGHT
TZOFFSETFROM:+0000
TZOFFSETTO:+0100
TZNAME:BST
DTSTART:20200329T010000
END:DAYLIGHT
BEGIN:STANDARD
TZOFFSETFROM:+0100
TZOFFSETTO:+0000
TZNAME:GMT
DTSTART:20201025T010000
END:STANDARD
END:VTIMEZONE
BEGIN:VEVENT
DTSTART;TZID=Europe/London:20200123T093000
DTEND;TZID=Europe/London:20200123T123000
DTSTAMP:20260423T052856
CREATED:20191224T102456Z
LAST-MODIFIED:20191224T102456Z
UID:2186-1579771800-1579782600@www.eastcoteresidents.org.uk
SUMMARY:Gardening Session
DESCRIPTION:Join this ever expanding Volunteer Group and make new friends and have fun while keeping fit doing a bit of Gardening or Conservation. No experience necessary. Tools & refreshments provided. \nMeet in the Eastcote House Gardens- gardeners compound.
URL:https://www.eastcoteresidents.org.uk/event/gardening-session-81/
LOCATION:Eastcote House Gardens\, High Road\, Eastcote Village\, HA5 2QS\, United Kingdom
CATEGORIES:Green Spaces
END:VEVENT
BEGIN:VEVENT
DTSTART;TZID=Europe/London:20200123T100000
DTEND;TZID=Europe/London:20200123T140000
DTSTAMP:20260423T052856
CREATED:20200122T173441Z
LAST-MODIFIED:20200122T173441Z
UID:2266-1579773600-1579788000@www.eastcoteresidents.org.uk
SUMMARY:Help build leaky debris dams
DESCRIPTION:
URL:https://www.eastcoteresidents.org.uk/event/help-build-leaky-debris-dams/
LOCATION:park wood
CATEGORIES:Green Spaces
END:VEVENT
END:VCALENDAR