BEGIN:VCALENDAR
VERSION:2.0
PRODID:-//Eastcote Residents&#039; Association - ECPv5.16.4//NONSGML v1.0//EN
CALSCALE:GREGORIAN
METHOD:PUBLISH
X-WR-CALNAME:Eastcote Residents&#039; Association
X-ORIGINAL-URL:https://www.eastcoteresidents.org.uk
X-WR-CALDESC:Events for Eastcote Residents&#039; Association
BEGIN:VTIMEZONE
TZID:Europe/London
BEGIN:DAYLIGHT
TZOFFSETFROM:+0000
TZOFFSETTO:+0100
TZNAME:BST
DTSTART:20180325T010000
END:DAYLIGHT
BEGIN:STANDARD
TZOFFSETFROM:+0100
TZOFFSETTO:+0000
TZNAME:GMT
DTSTART:20181028T010000
END:STANDARD
END:VTIMEZONE
BEGIN:VEVENT
DTSTART;TZID=Europe/London:20181203T110000
DTEND;TZID=Europe/London:20181203T130000
DTSTAMP:20260421T100441
CREATED:20181122T171852Z
LAST-MODIFIED:20181122T171852Z
UID:951-1543834800-1543842000@www.eastcoteresidents.org.uk
SUMMARY:Friends of Eastcote House Gardens Quarterly General Meeting
DESCRIPTION:All interested residents welcome. \nAgenda:\n– Apologies\n– Any matters carried over from the QGM held on 1st October\n– Treasurer’s report\n– Reports of past activities and events\n– GSK corporate volunteers visit\n– Eastcote remembers\n– Countryside conservation\n– Craft group\n– Tree dressing\n– Waitrose community matters\n– Forthcoming events\n– Toshiba corporate volunteers visit\n– Any other business; to be emailed to Steve Place splace783@btinternet.com by 24th Nov \nDate of next QGM Monday 4th March 2019 in the stables
URL:https://www.eastcoteresidents.org.uk/event/friends-of-eastcote-house-gardens-quarterly-general-meeting/
LOCATION:Eastcote House Stables\, 5 Field End Rd\, Pinner\, HA5 2QS\, United Kingdom
CATEGORIES:Green Spaces
END:VEVENT
END:VCALENDAR