BEGIN:VCALENDAR
VERSION:2.0
PRODID:-//Eastcote Residents&#039; Association - ECPv5.16.4//NONSGML v1.0//EN
CALSCALE:GREGORIAN
METHOD:PUBLISH
X-WR-CALNAME:Eastcote Residents&#039; Association
X-ORIGINAL-URL:https://www.eastcoteresidents.org.uk
X-WR-CALDESC:Events for Eastcote Residents&#039; Association
BEGIN:VTIMEZONE
TZID:Europe/London
BEGIN:DAYLIGHT
TZOFFSETFROM:+0000
TZOFFSETTO:+0100
TZNAME:BST
DTSTART:20180325T010000
END:DAYLIGHT
BEGIN:STANDARD
TZOFFSETFROM:+0100
TZOFFSETTO:+0000
TZNAME:GMT
DTSTART:20181028T010000
END:STANDARD
END:VTIMEZONE
BEGIN:VEVENT
DTSTART;TZID=Europe/London:20181201T100000
DTEND;TZID=Europe/London:20181201T120000
DTSTAMP:20260421T094759
CREATED:20181119T145226Z
LAST-MODIFIED:20181121T205753Z
UID:938-1543658400-1543665600@www.eastcoteresidents.org.uk
SUMMARY:Free and Easy Sat morning walk with Hillingdon Ramblers.
DESCRIPTION:A leisurely 4 mile walk with the Hillingdon Ramblers starting from the Swan pub in Iver (SL0 9JZ) following the river Colne\, Little Britain lake and the Slough Arm of the canal. For more details\, feel free to contact the leader\, Jon Kellett on 0771 380 4256.\n(Details of longer walks can be found on the Ramblers website)
URL:https://www.eastcoteresidents.org.uk/event/free-and-easy-sat-morning-walk-with-hillingdon-ramblers-3/
CATEGORIES:Green Spaces
END:VEVENT
BEGIN:VEVENT
DTSTART;TZID=Europe/London:20181201T133000
DTEND;TZID=Europe/London:20181201T153000
DTSTAMP:20260421T094759
CREATED:20181122T171303Z
LAST-MODIFIED:20181122T171303Z
UID:948-1543671000-1543678200@www.eastcoteresidents.org.uk
SUMMARY:Eastcote House Gardens Tree Dressing
DESCRIPTION:Bring a bauble and help dress the tree! \nThe Mayor of Hillingdon will lead the tree dressing\nSchool Choirs\nStalls\nBear Hunt\nRefreshments \nFree event – suitable for all ages \n 
URL:https://www.eastcoteresidents.org.uk/event/eastcote-house-gardens-tree-dressing/
LOCATION:Eastcote House Gardens\, High Road\, Eastcote Village\, HA5 2QS\, United Kingdom
CATEGORIES:Green Spaces
END:VEVENT
END:VCALENDAR