BEGIN:VCALENDAR
VERSION:2.0
PRODID:-//Eastcote Residents&#039; Association - ECPv5.16.4//NONSGML v1.0//EN
CALSCALE:GREGORIAN
METHOD:PUBLISH
X-WR-CALNAME:Eastcote Residents&#039; Association
X-ORIGINAL-URL:https://www.eastcoteresidents.org.uk
X-WR-CALDESC:Events for Eastcote Residents&#039; Association
BEGIN:VTIMEZONE
TZID:Europe/London
BEGIN:DAYLIGHT
TZOFFSETFROM:+0000
TZOFFSETTO:+0100
TZNAME:BST
DTSTART:20180325T010000
END:DAYLIGHT
BEGIN:STANDARD
TZOFFSETFROM:+0100
TZOFFSETTO:+0000
TZNAME:GMT
DTSTART:20181028T010000
END:STANDARD
END:VTIMEZONE
BEGIN:VEVENT
DTSTART;TZID=Europe/London:20181112T140000
DTEND;TZID=Europe/London:20181112T160000
DTSTAMP:20260421T114443
CREATED:20181018T174441Z
LAST-MODIFIED:20181106T235543Z
UID:783-1542031200-1542038400@www.eastcoteresidents.org.uk
SUMMARY:Eastcote Remembers
DESCRIPTION:In Voice and Verse present \nArmistice \nRemembrance of the Fallen from WW1 \nRefreshments provided \n  \n£15 admission price includes a donation to Eastcote British Legion \n(event is also running on the 13th)
URL:https://www.eastcoteresidents.org.uk/event/eastcote-remembers/
LOCATION:Eastcote House Stables\, 5 Field End Rd\, Pinner\, HA5 2QS\, United Kingdom
CATEGORIES:Community
ORGANIZER;CN="Lesley%20Crowcroft":MAILTO:lesley.crowcroft@gmail.com
END:VEVENT
END:VCALENDAR