BEGIN:VCALENDAR
VERSION:2.0
PRODID:-//Eastcote Residents&#039; Association - ECPv5.16.4//NONSGML v1.0//EN
CALSCALE:GREGORIAN
METHOD:PUBLISH
X-WR-CALNAME:Eastcote Residents&#039; Association
X-ORIGINAL-URL:https://www.eastcoteresidents.org.uk
X-WR-CALDESC:Events for Eastcote Residents&#039; Association
BEGIN:VTIMEZONE
TZID:Europe/London
BEGIN:DAYLIGHT
TZOFFSETFROM:+0000
TZOFFSETTO:+0100
TZNAME:BST
DTSTART:20180325T010000
END:DAYLIGHT
BEGIN:STANDARD
TZOFFSETFROM:+0100
TZOFFSETTO:+0000
TZNAME:GMT
DTSTART:20181028T010000
END:STANDARD
END:VTIMEZONE
BEGIN:VEVENT
DTSTART;TZID=Europe/London:20181109T093000
DTEND;TZID=Europe/London:20181109T123000
DTSTAMP:20260423T111801
CREATED:20181109T104603Z
LAST-MODIFIED:20181109T104911Z
UID:909-1541755800-1541766600@www.eastcoteresidents.org.uk
SUMMARY:Gardening Session
DESCRIPTION:Make new friends while keeping fit doing a bit Conservation or gardening. No experience necessary. Tools & refreshments provided
URL:https://www.eastcoteresidents.org.uk/event/gardening-session-10/
LOCATION:Eastcote House Gardens\, High Road\, Eastcote Village\, HA5 2QS\, United Kingdom
CATEGORIES:Green Spaces
END:VEVENT
BEGIN:VEVENT
DTSTART;TZID=Europe/London:20181109T193000
DTEND;TZID=Europe/London:20181109T193000
DTSTAMP:20260423T111801
CREATED:20181109T105513Z
LAST-MODIFIED:20181109T105627Z
UID:913-1541791800-1541791800@www.eastcoteresidents.org.uk
SUMMARY:Showcase Musical Theatre - We will Remember Them
DESCRIPTION:To mark the 100th anniversary of the First World War\, we are hosting this Remembrance-themed event on Friday Evening (also on Saturday Afternoon). We will be showing our gratitude to all those who have served their county\, and commemorating all of those who have died in war with songs\, letter readings\, prayers\, and other appropriate activities.  \nThe show is in Hesdin Hall\, at Church of the Most Sacred Heart near Ruislip Manor Station.  \nTickets are now available online\, at £10 each. We will also open our telephone box office nearer the time. Online Box Office…….
URL:https://www.eastcoteresidents.org.uk/event/showcase-musical-theatre-we-will-remember-them/
LOCATION:Church of Most Sacred Heart\, 73 Pembroke Road\, Ruislip\, HA4 8NN\, United Kingdom
CATEGORIES:Arts
END:VEVENT
END:VCALENDAR