BEGIN:VCALENDAR
VERSION:2.0
PRODID:-//Eastcote Residents&#039; Association - ECPv5.16.4//NONSGML v1.0//EN
CALSCALE:GREGORIAN
METHOD:PUBLISH
X-WR-CALNAME:Eastcote Residents&#039; Association
X-ORIGINAL-URL:https://www.eastcoteresidents.org.uk
X-WR-CALDESC:Events for Eastcote Residents&#039; Association
BEGIN:VTIMEZONE
TZID:Europe/London
BEGIN:DAYLIGHT
TZOFFSETFROM:+0000
TZOFFSETTO:+0100
TZNAME:BST
DTSTART:20180325T010000
END:DAYLIGHT
BEGIN:STANDARD
TZOFFSETFROM:+0100
TZOFFSETTO:+0000
TZNAME:GMT
DTSTART:20181028T010000
END:STANDARD
END:VTIMEZONE
BEGIN:VEVENT
DTSTART;TZID=Europe/London:20181102T093000
DTEND;TZID=Europe/London:20181102T123000
DTSTAMP:20260421T114402
CREATED:20180929T155346Z
LAST-MODIFIED:20181015T195401Z
UID:493-1541151000-1541161800@www.eastcoteresidents.org.uk
SUMMARY:Gardening Session
DESCRIPTION:Make new friends while keeping fit doing a bit Conservation or gardening. No experience necessary. Tools & refreshments provided
URL:https://www.eastcoteresidents.org.uk/event/gardening-session-9/
LOCATION:Eastcote House Gardens\, High Road\, Eastcote Village\, HA5 2QS\, United Kingdom
CATEGORIES:Green Spaces
END:VEVENT
BEGIN:VEVENT
DTSTART;TZID=Europe/London:20181102T193000
DTEND;TZID=Europe/London:20181102T223000
DTSTAMP:20260421T114402
CREATED:20180929T155549Z
LAST-MODIFIED:20181014T195935Z
UID:501-1541187000-1541197800@www.eastcoteresidents.org.uk
SUMMARY:Showcase Musical Theatre - Rehearsals
DESCRIPTION:New Members Welcome- come along to a rehearsal For Details see info@showcasemusicaltheatre.org.uk
URL:https://www.eastcoteresidents.org.uk/event/showcase-musical-theatre-rehearsals-9/
LOCATION:Church of Most Sacred Heart\, 73 Pembroke Road\, Ruislip\, HA4 8NN\, United Kingdom
CATEGORIES:Arts
END:VEVENT
END:VCALENDAR