BEGIN:VCALENDAR
VERSION:2.0
PRODID:-//Eastcote Residents&#039; Association - ECPv5.16.4//NONSGML v1.0//EN
CALSCALE:GREGORIAN
METHOD:PUBLISH
X-WR-CALNAME:Eastcote Residents&#039; Association
X-ORIGINAL-URL:https://www.eastcoteresidents.org.uk
X-WR-CALDESC:Events for Eastcote Residents&#039; Association
BEGIN:VTIMEZONE
TZID:Europe/London
BEGIN:DAYLIGHT
TZOFFSETFROM:+0000
TZOFFSETTO:+0100
TZNAME:BST
DTSTART:20180325T010000
END:DAYLIGHT
BEGIN:STANDARD
TZOFFSETFROM:+0100
TZOFFSETTO:+0000
TZNAME:GMT
DTSTART:20181028T010000
END:STANDARD
END:VTIMEZONE
BEGIN:VEVENT
DTSTART;TZID=Europe/London:20180926T193000
DTEND;TZID=Europe/London:20180926T203000
DTSTAMP:20260421T152505
CREATED:20180903T225359Z
LAST-MODIFIED:20180903T225447Z
UID:416-1537990200-1537993800@www.eastcoteresidents.org.uk
SUMMARY:ERA Committee Meeting
DESCRIPTION:Held in the Elsie Fischer Room – The Eastcote Residents’ Association Committee meeting is held monthly monthly throughout the year. Residents’ welcome to attend with prior arrangement. Please contact chairmain@eastcotera.co.uk if you wish to attend.
URL:https://www.eastcoteresidents.org.uk/event/era-committee-meeting/
LOCATION:St Lawrence Church\, 2 Bridle Road\, Harrow\, HA5 2SJ\, United Kingdom
CATEGORIES:Committee Meetings
END:VEVENT
END:VCALENDAR