BEGIN:VCALENDAR
VERSION:2.0
PRODID:-//Eastcote Residents&#039; Association - ECPv5.16.4//NONSGML v1.0//EN
CALSCALE:GREGORIAN
METHOD:PUBLISH
X-WR-CALNAME:Eastcote Residents&#039; Association
X-ORIGINAL-URL:https://www.eastcoteresidents.org.uk
X-WR-CALDESC:Events for Eastcote Residents&#039; Association
BEGIN:VTIMEZONE
TZID:Europe/London
BEGIN:DAYLIGHT
TZOFFSETFROM:+0000
TZOFFSETTO:+0100
TZNAME:BST
DTSTART:20180325T010000
END:DAYLIGHT
BEGIN:STANDARD
TZOFFSETFROM:+0100
TZOFFSETTO:+0000
TZNAME:GMT
DTSTART:20181028T010000
END:STANDARD
END:VTIMEZONE
BEGIN:VEVENT
DTSTART;TZID=Europe/London:20180918T133000
DTEND;TZID=Europe/London:20180918T153000
DTSTAMP:20260421T171300
CREATED:20180903T224654Z
LAST-MODIFIED:20180903T224654Z
UID:408-1537277400-1537284600@www.eastcoteresidents.org.uk
SUMMARY:Dovecote Open to the public
DESCRIPTION:A chance to see the inside of this fascinating old building with guided talk.
URL:https://www.eastcoteresidents.org.uk/event/dovecote-open-to-the-public/
LOCATION:Eastcote House Gardens\, High Road\, Eastcote Village\, HA5 2QS\, United Kingdom
CATEGORIES:Social
END:VEVENT
BEGIN:VEVENT
DTSTART;TZID=Europe/London:20180918T200000
DTEND;TZID=Europe/London:20180918T220000
DTSTAMP:20260421T171300
CREATED:20180903T223600Z
LAST-MODIFIED:20180903T223600Z
UID:385-1537300800-1537308000@www.eastcoteresidents.org.uk
SUMMARY:Eastcote Choral Society
DESCRIPTION:Eastcote Choral Soc. Rehearsals.  \nTuesdays 8.00-10.00pm. Ruislip Methodist Church\, Ickenham Road\, Ruislip\, Middlesex.  \nFurther details\, Box Office and rehearsals 01895 904556
URL:https://www.eastcoteresidents.org.uk/event/eastcote-choral-society-3/
LOCATION:Ruislip Methodist Church\, Ickenham Road\, Ruislip\, HA4 7BZ\, United Kingdom
CATEGORIES:Social
END:VEVENT
END:VCALENDAR