BEGIN:VCALENDAR
VERSION:2.0
PRODID:-//Eastcote Residents&#039; Association - ECPv5.16.4//NONSGML v1.0//EN
CALSCALE:GREGORIAN
METHOD:PUBLISH
X-WR-CALNAME:Eastcote Residents&#039; Association
X-ORIGINAL-URL:https://www.eastcoteresidents.org.uk
X-WR-CALDESC:Events for Eastcote Residents&#039; Association
BEGIN:VTIMEZONE
TZID:Europe/London
BEGIN:DAYLIGHT
TZOFFSETFROM:+0000
TZOFFSETTO:+0100
TZNAME:BST
DTSTART:20230326T010000
END:DAYLIGHT
BEGIN:STANDARD
TZOFFSETFROM:+0100
TZOFFSETTO:+0000
TZNAME:GMT
DTSTART:20231029T010000
END:STANDARD
END:VTIMEZONE
BEGIN:VEVENT
DTSTART;TZID=Europe/London:20230308T140000
DTEND;TZID=Europe/London:20230308T160000
DTSTAMP:20260421T134636
CREATED:20230303T105116Z
LAST-MODIFIED:20230303T105116Z
UID:5729-1678284000-1678291200@www.eastcoteresidents.org.uk
SUMMARY:Women of the Borough
DESCRIPTION:Join archivist Sarah Harrison at Manor Farm library\, Ruislip. \nShe will be talking about the lives of women in Hillingdon past and present\, in an event to mark International Women’s Day\nTo book your free place\, please email Manorfarm-library@hillingdon.gov.uk
URL:https://www.eastcoteresidents.org.uk/event/women-of-the-borough/
LOCATION:Manor Farm Library\, Bury Street\, Ruislip\, HA4 7SU\, United Kingdom
CATEGORIES:Community
ATTACH;FMTTYPE=image/jpeg:https://www.eastcoteresidents.org.uk/wp-content/uploads/2023/03/PXL_20230301_110648059-scaled.jpg
END:VEVENT
END:VCALENDAR