BEGIN:VCALENDAR
VERSION:2.0
PRODID:-//Eastcote Residents&#039; Association - ECPv5.16.4//NONSGML v1.0//EN
CALSCALE:GREGORIAN
METHOD:PUBLISH
X-WR-CALNAME:Eastcote Residents&#039; Association
X-ORIGINAL-URL:https://www.eastcoteresidents.org.uk
X-WR-CALDESC:Events for Eastcote Residents&#039; Association
BEGIN:VTIMEZONE
TZID:Europe/London
BEGIN:DAYLIGHT
TZOFFSETFROM:+0000
TZOFFSETTO:+0100
TZNAME:BST
DTSTART:20250330T010000
END:DAYLIGHT
BEGIN:STANDARD
TZOFFSETFROM:+0100
TZOFFSETTO:+0000
TZNAME:GMT
DTSTART:20251026T010000
END:STANDARD
END:VTIMEZONE
BEGIN:VEVENT
DTSTART;TZID=Europe/London:20250510T100000
DTEND;TZID=Europe/London:20250510T160000
DTSTAMP:20260422T101543
CREATED:20250428T071905Z
LAST-MODIFIED:20250428T071905Z
UID:7179-1746871200-1746892800@www.eastcoteresidents.org.uk
SUMMARY:Wartime Eastcote\, 80 years after VE Day
DESCRIPTION:The Friends of Eastcote House Gardens will host an exhibition by the Ruislip\, Northwood and Eastcote local history society to celebrate the 80th anniversary of VE Day.\nThe Royal British Legion\, Eastcote branch will have a stand and local history publications and second hand books on WW1 and WW2 will be on sale.
URL:https://www.eastcoteresidents.org.uk/event/wartime-eastcote-80-years-after-ve-day/
LOCATION:Eastcote House Gardens\, High Road\, Eastcote Village\, HA5 2QS\, United Kingdom
CATEGORIES:Community,Key Event
END:VEVENT
END:VCALENDAR