BEGIN:VCALENDAR
VERSION:2.0
PRODID:-//Eastcote Residents&#039; Association - ECPv5.16.4//NONSGML v1.0//EN
CALSCALE:GREGORIAN
METHOD:PUBLISH
X-WR-CALNAME:Eastcote Residents&#039; Association
X-ORIGINAL-URL:https://www.eastcoteresidents.org.uk
X-WR-CALDESC:Events for Eastcote Residents&#039; Association
BEGIN:VTIMEZONE
TZID:Europe/London
BEGIN:DAYLIGHT
TZOFFSETFROM:+0000
TZOFFSETTO:+0100
TZNAME:BST
DTSTART:20260329T010000
END:DAYLIGHT
BEGIN:STANDARD
TZOFFSETFROM:+0100
TZOFFSETTO:+0000
TZNAME:GMT
DTSTART:20261025T010000
END:STANDARD
END:VTIMEZONE
BEGIN:VEVENT
DTSTART;TZID=Europe/London:20260217T170000
DTEND;TZID=Europe/London:20260217T183000
DTSTAMP:20260421T134819
CREATED:20260213T153858Z
LAST-MODIFIED:20260213T153858Z
UID:7666-1771347600-1771353000@www.eastcoteresidents.org.uk
SUMMARY:Preventing Violence against women and girls
DESCRIPTION:Join the Police at Highgrove Pool on 17/02/26 (5:00 PM – 6:30 PM) for an important and engaging event on preventing violence against women & girls.\n✅ Learn practical tips\n✅ Meet your local team\n✅ Make a difference in your community \nLet’s work together to keep Eastcote safe! See you there \nLindsey Prior\n(Metropolitan Police\, PCSO\, WA Eastcote SNT Hillingdon
URL:https://www.eastcoteresidents.org.uk/event/preventing-violence-against-women-and-girls/
LOCATION:highgrove swimming pool\, hume way\, ruislip\, HA4 8DZ\, United Kingdom
CATEGORIES:Community
END:VEVENT
END:VCALENDAR