BEGIN:VCALENDAR
VERSION:2.0
PRODID:-//Eastcote Residents&#039; Association - ECPv5.16.4//NONSGML v1.0//EN
CALSCALE:GREGORIAN
METHOD:PUBLISH
X-WR-CALNAME:Eastcote Residents&#039; Association
X-ORIGINAL-URL:https://www.eastcoteresidents.org.uk
X-WR-CALDESC:Events for Eastcote Residents&#039; Association
BEGIN:VTIMEZONE
TZID:Europe/London
BEGIN:DAYLIGHT
TZOFFSETFROM:+0000
TZOFFSETTO:+0100
TZNAME:BST
DTSTART:20250330T010000
END:DAYLIGHT
BEGIN:STANDARD
TZOFFSETFROM:+0100
TZOFFSETTO:+0000
TZNAME:GMT
DTSTART:20251026T010000
END:STANDARD
END:VTIMEZONE
BEGIN:VEVENT
DTSTART;TZID=Europe/London:20251115T110000
DTEND;TZID=Europe/London:20251115T160000
DTSTAMP:20260421T192328
CREATED:20251017T153744Z
LAST-MODIFIED:20251017T153744Z
UID:7468-1763204400-1763222400@www.eastcoteresidents.org.uk
SUMMARY:Harrow Choral Society's Come & Sing Mendelssohn's Elijah
DESCRIPTION:Following on from the success of last year’s Come and Sing Mozart’s Requiem\, we are holding Come and Sing Mendelssohn’s Elijah. \nWe will be rehearsing a selection of movements from this well loved work\, with an informal performance at the end of the workshop. All singers are welcome. Music will be available to borrow if required. \nWe will sing under the direction of Sam Evans\, who will perform some of the baritone solos. Paul Ayres will accompany us. \nTickets £25\, students free \nRegistration from 10.30\, and rehearsal from 11.00 – 4.00. Tea and coffee will be provided\, but please bring a packed lunch. \nNearest Tube stations are North Harrow (Watford branch of Metropolitan line) and Rayners Lane (Uxbridge branch of Metropolitan line and Piccadilly line). The H11 bus stops outside St Albans Church and the H9/H10 bus stops close by. \nFor tickets and information\, please visit www.harrowchoral.org.uk  or call 07794 253463
URL:https://www.eastcoteresidents.org.uk/event/harrow-choral-societys-come-sing-mendelssohns-elijah-2/
LOCATION:st albans church\, north harrow\, ha2 7pf\, United Kingdom
CATEGORIES:Arts
END:VEVENT
END:VCALENDAR