BEGIN:VCALENDAR
VERSION:2.0
PRODID:-//Eastcote Residents&#039; Association - ECPv5.16.4//NONSGML v1.0//EN
CALSCALE:GREGORIAN
METHOD:PUBLISH
X-WR-CALNAME:Eastcote Residents&#039; Association
X-ORIGINAL-URL:https://www.eastcoteresidents.org.uk
X-WR-CALDESC:Events for Eastcote Residents&#039; Association
BEGIN:VTIMEZONE
TZID:Europe/London
BEGIN:DAYLIGHT
TZOFFSETFROM:+0000
TZOFFSETTO:+0100
TZNAME:BST
DTSTART:20230326T010000
END:DAYLIGHT
BEGIN:STANDARD
TZOFFSETFROM:+0100
TZOFFSETTO:+0000
TZNAME:GMT
DTSTART:20231029T010000
END:STANDARD
END:VTIMEZONE
BEGIN:VEVENT
DTSTART;TZID=Europe/London:20230423T110000
DTEND;TZID=Europe/London:20230423T160000
DTSTAMP:20260421T115247
CREATED:20230211T151613Z
LAST-MODIFIED:20230420T124717Z
UID:5695-1682247600-1682265600@www.eastcoteresidents.org.uk
SUMMARY:Eastcote House Gardens first event of 2023
DESCRIPTION:The first event of 2023 – the Dovecote will be open\, Craft sale in the Stables and Book Sale in the Gardeners’ Yard\, there will also be a display of Classic cars \n(please note that the showing of the cars is restricted to car club members on their rally only)
URL:https://www.eastcoteresidents.org.uk/event/eastcote-house-gardens-first-event-of-2023/
LOCATION:Eastcote House Gardens\, High Road\, Eastcote Village\, HA5 2QS\, United Kingdom
CATEGORIES:Green Spaces
END:VEVENT
END:VCALENDAR