BEGIN:VCALENDAR
VERSION:2.0
PRODID:-//Eastcote Residents&#039; Association - ECPv5.16.4//NONSGML v1.0//EN
CALSCALE:GREGORIAN
METHOD:PUBLISH
X-WR-CALNAME:Eastcote Residents&#039; Association
X-ORIGINAL-URL:https://www.eastcoteresidents.org.uk
X-WR-CALDESC:Events for Eastcote Residents&#039; Association
BEGIN:VTIMEZONE
TZID:Europe/London
BEGIN:DAYLIGHT
TZOFFSETFROM:+0000
TZOFFSETTO:+0100
TZNAME:BST
DTSTART:20240331T010000
END:DAYLIGHT
BEGIN:STANDARD
TZOFFSETFROM:+0100
TZOFFSETTO:+0000
TZNAME:GMT
DTSTART:20241027T010000
END:STANDARD
END:VTIMEZONE
BEGIN:VEVENT
DTSTART;TZID=Europe/London:20241207T173000
DTEND;TZID=Europe/London:20241207T190000
DTSTAMP:20260422T132420
CREATED:20241114T115511Z
LAST-MODIFIED:20241114T115511Z
UID:6956-1733592600-1733598000@www.eastcoteresidents.org.uk
SUMMARY:Christmas choir concert
DESCRIPTION:Join Harrow Harmony choir at their Christmas concert. Lots of festive music to enjoy including carols to sing along with .\nThe very talented violinist Megumi Tanimura is the guest artist for the evening .
URL:https://www.eastcoteresidents.org.uk/event/christmas-choir-concert/
LOCATION:pinner methodist church\, love lane\, ha5 3ee
CATEGORIES:Arts
END:VEVENT
END:VCALENDAR